BEGIN:VCALENDAR
VERSION:2.0
PRODID:Events Booking
BEGIN:VEVENT
UID:69e9908140b6a
SUMMARY:49th LD 3rd Quarter 2024
DESCRIPTION:3rd Quarter - Saturday\, August 24\, 2024\, Check In 9:30 AM\, 
 meeting starts at 10:00 AM
LOCATION:NE 114th Ave\, Vancouver\, WA\, USA
DTSTART:20240824T170000Z
DTSTAMP:20230126T090156Z
ORGANIZER;CN=Clark County Republican Party:MAILTO:info@clarkrepublicans.org
GEO:45.643355;-122.555722
X-APPLE-STRUCTURED-LOCATION;VALUE=URI;X-ADDRESS=NE 114th Ave\, Vancouver\, 
 WA\, USA;X-APPLE-RADIUS=72;X-TITLE=Clark County Republican Headquarters:45
 .643355;-122.555722
END:VEVENT
END:VCALENDAR