BEGIN:VCALENDAR
VERSION:2.0
PRODID:Events Booking
BEGIN:VEVENT
UID:69e9befd6ffc0
SUMMARY:LD 20 Town Hall Meeting March 20\, 2023
DESCRIPTION:
 https://edorcutt.houserepublicans.wa.gov/2023/03/14/20th-dis
 trict-virtual-town-hall-coming-monday-march-20/
 20th District ‘virtual
 ’ town hall coming Monday\, March 20
 
 Sen. John Braun\, Rep. Ed Orcu
 tt and Rep. Peter Abbarno are inviting residents of the 20th Legislative D
 istrict to a virtual town-hall meeting the evening of Monday\, March 20.

  The meeting will go from 6:15 to 7:15 p.m.\, hosted on the Zoom platform.
  People wishing to participate need to sign up in advance\, using the onli
 ne form available at this link. Meeting virtually allows easy and convenie
 nt interaction with the 20th District delegation\, while meeting on a week
 night avoids disrupting weekend family activities.
 “There's much to re
 port to our constituents\, especially in the areas of public safety\, affo
 rdability and education\, which are the Republican priorities for this ses
 sion. We're seeing progress on issues that affect communities throughout t
 he state\, like addressing the sharp rise of crime and the drug-overdose e
 pidemic\, as well as local issues like planning for future flooding in the
  Chehalis Valley\,” said Braun\, R-Centralia.
 “This town hall also g
 ives constituents a chance to express support or concerns regarding policy
  or budget proposals and to ask questions about these issues\,” said Orc
 utt\, R-Kalama.
 “I am looking forward to listening to the concerns of 
 our constituents from all over the 20th Legislative District and discussin
 g solutions\,” said Abbarno\, R-Centralia. “With the 2023 legislative 
 session more than halfway over\, this is a great opportunity to provide fo
 lks with an update on the many good and bad policies making their way thro
 ugh the process and\, of course\, the many missed opportunities.”
DTSTART:20230321T011500Z
DTSTAMP:20230315T064619Z
ORGANIZER;CN=Clark County Republican Party:MAILTO:info@clarkrepublicans.org
END:VEVENT
END:VCALENDAR