BEGIN:VCALENDAR
VERSION:2.0
PRODID:Events Booking
BEGIN:VEVENT
UID:69e9bee2cd634
SUMMARY:LD 18th Caucus Meeting
DESCRIPTION:January 9\, 2025 at 6:00 P.M. at the CCRP Headquarters Office l
 ocated at 2702 NE 114th Ave Suite 4\, Vancouver\, WA 98684.
LOCATION:NE 114th Ave\, Vancouver\, WA\, USA
DTSTART:20250110T020000Z
DTSTAMP:20250107T102350Z
ORGANIZER;CN=Clark County Republican Party:MAILTO:info@clarkrepublicans.org
GEO:45.643355;-122.555722
X-APPLE-STRUCTURED-LOCATION;VALUE=URI;X-ADDRESS=NE 114th Ave\, Vancouver\, 
 WA\, USA;X-APPLE-RADIUS=72;X-TITLE=Clark County Republican Headquarters:45
 .643355;-122.555722
END:VEVENT
END:VCALENDAR