BEGIN:VCALENDAR
VERSION:2.0
PRODID:Events Booking
BEGIN:VEVENT
UID:69e53bd71f0f5
SUMMARY:17th LD Christmas Party
DESCRIPTION:17th LD Christmas Party
 December 6thUS Digital - Mt Hood Room
 8:30 credentialing 9:00 start
LOCATION:1400 NE 136th Ave\, Vancouver\, WA 98684\, USA
DTSTART:20251207T050000Z
DTSTAMP:20251125T092844Z
ORGANIZER;CN=Clark County Republican Party:MAILTO:info@clarkrepublicans.org
GEO:45.634108;-122.536223
X-APPLE-STRUCTURED-LOCATION;VALUE=URI;X-ADDRESS=1400 NE 136th Ave\, Vancouv
 er\, WA 98684\, USA;X-APPLE-RADIUS=72;X-TITLE=US Digital:45.634108;-122.53
 6223
END:VEVENT
END:VCALENDAR