BEGIN:VCALENDAR
VERSION:2.0
PRODID:Events Booking
BEGIN:VEVENT
UID:69ea3eeb50791
SUMMARY:Spring State Committee Meeting
DESCRIPTION:Spring State Committee Meeting
 Clarkston
 April 10th-11th
DTSTART:20260410T070000Z
DTEND:20260411T070000Z
DTSTAMP:20251031T054327Z
ORGANIZER;CN=Clark County Republican Party:MAILTO:info@clarkrepublicans.org
END:VEVENT
END:VCALENDAR