BEGIN:VCALENDAR
VERSION:2.0
PRODID:Events Booking
BEGIN:VEVENT
UID:69e719fa4d9e1
SUMMARY:Placing Guardrails on Government: Setting Clear Boundaries
DESCRIPTION:
DTSTART:20260423T070000Z
DTSTAMP:20260314T015842Z
ORGANIZER;CN=Clark County Republican Party:MAILTO:info@clarkrepublicans.org
END:VEVENT
END:VCALENDAR