BEGIN:VCALENDAR
VERSION:2.0
PRODID:Events Booking
BEGIN:VEVENT
UID:69e9911ccdc0c
SUMMARY:Half Time Huddle
DESCRIPTION:September is HALF TIME between the 2024 Primary and General Ele
 ctions!
 Join us for a fun CCRW celebration of Republican candidate Prima
 ry Election wins on
 Thursday\, September 19th\, 2024 5:30 PM - 8:30 PM

  Battle Ground Community Center912 E Main St\, Battle Ground\, WA 98604
 
 Advanced Registration is Required by Sept. 12th
 Casual attire - wear the
  T-Shirt of a candidate you support.Enjoy game day snacks and dinner fare\
 , complimentary wine\, beer\, non-alcoholic beverages\, and dessert.
 Get
  tickets here.
LOCATION:912 E Main St\, Battle Ground\, WA 98604\, USA
DTSTART:20240920T010000Z
DTSTAMP:20240827T022523Z
ORGANIZER;CN=Clark County Republican Party:MAILTO:info@clarkrepublicans.org
GEO:45.781182;-122.5274
X-APPLE-STRUCTURED-LOCATION;VALUE=URI;X-ADDRESS=912 E Main St\, Battle Grou
 nd\, WA 98604\, USA;X-APPLE-RADIUS=72;X-TITLE=Battle Ground Event Center:4
 5.781182;-122.5274
END:VEVENT
END:VCALENDAR