BEGIN:VCALENDAR
VERSION:2.0
PRODID:Events Booking
BEGIN:VEVENT
UID:69e4eade164b0
SUMMARY:Freedom and Liberty will Prevail
DESCRIPTION:Patriots United has an upcoming event:
 They encourage everyon
 e to bring their ballots\, friends\, family\, and neighbors ballots to thi
 s event! We will have Certified Election Observers at the event collecting
  these ballots and making sure that they get to the ballot box on Election
  Day! You won't want to miss this incredible opportunity to hear about the
  History of our United States overcoming tyranny from Bill Federer. Bill i
 s well known for his work with the American Minute\, he is a Best Selling 
 Author\, Nationally known Speaker\, two time MO Candidate for Congress\, a
 nd Historian.
 You will also hear from Jim Walsh\, Chairman of our WA Sta
 te Republican Party and Rep. 19th LD and Glen Morgan\, Conservative Activi
 st and known for his We The Governed YouTube channel 484+ videos 3M+ views
 ! We look forward to seeing you at our upcoming event Freedom &amp\; Liber
 ty Will Prevail! Your Vote Makes The Difference! Exercise Your Constitutio
 nal Right To Vote!
 Date: Monday\, November 4thTime: 6-9pmLocation: Black
  Pearl on The Columbia
 56 S 1st St. Washougal\, WA 98671
 *Arrive by 5:
 45pm for best parking*Start Promptly From Stage at 6:30pm
 Register Here:
  https://patriotsunitedwa.ticketspice.com/freedom-liberty-will-prevail
LOCATION:56 S 1st St\, Washougal\, WA 98671\, USA
DTSTART:20241105T020000Z
DTEND:20241105T040000Z
DTSTAMP:20240825T061229Z
ORGANIZER;CN=Clark County Republican Party:MAILTO:info@clarkrepublicans.org
GEO:45.578576;-122.379136
X-APPLE-STRUCTURED-LOCATION;VALUE=URI;X-ADDRESS=56 S 1st St\, Washougal\, W
 A 98671\, USA;X-APPLE-RADIUS=72;X-TITLE=Black Pearl on the Columbia:45.578
 576;-122.379136
END:VEVENT
END:VCALENDAR