BEGIN:VCALENDAR
VERSION:2.0
PRODID:Events Booking
BEGIN:VEVENT
UID:69ed22a856638
SUMMARY:Cup of Joe with Joe Kent
DESCRIPTION:Join Joe Kent and his campaign team for coffee where you'll hea
 r Joe's message and plan to defeat Democrat Congresswoman Marie Perez\, ge
 t introductory training in how to engage in legal ballot collection\, and 
 meet fellow Republicans.
 Visit https://joekentforcongress.com/cup/
DTSTART:20240221T030000Z
DTSTAMP:20231202T075150Z
ORGANIZER;CN=Clark County Republican Party:MAILTO:info@clarkrepublicans.org
END:VEVENT
END:VCALENDAR