BEGIN:VCALENDAR
VERSION:2.0
PRODID:Events Booking
BEGIN:VEVENT
UID:69e81cbd15888
SUMMARY:250 Years Strong:Keeping Government by the People 
DESCRIPTION:
LOCATION:912 E Main St\, Battle Ground\, WA 98604\, USA
DTSTART:20260212T080000Z
DTSTAMP:20260124T074732Z
ORGANIZER;CN=Clark County Republican Party:MAILTO:info@clarkrepublicans.org
GEO:45.781182;-122.5274
X-APPLE-STRUCTURED-LOCATION;VALUE=URI;X-ADDRESS=912 E Main St\, Battle Grou
 nd\, WA 98604\, USA;X-APPLE-RADIUS=72;X-TITLE=Battle Ground Event Center:4
 5.781182;-122.5274
END:VEVENT
END:VCALENDAR