BEGIN:VCALENDAR
VERSION:2.0
PRODID:Events Booking
BEGIN:VEVENT
UID:69e9beb9ea129
SUMMARY:Newly Elected PCO Training and Get Together
DESCRIPTION:Newly Elected PCO Training and Get Together:
 Tuesday Aug 13th
  6:30 - 9:00 - CCRP HQ
 You were just elected as a PCO. Let's get you up 
 to speed on what's next and introduce you around! We will cover the respon
 sibilities of a PCO\, meeting protocols\, how PCOs fit in the party\, part
 y resources\, and opportunities to get started early as a volunteer.
 Com
 e get to know other PCOs and party leaders in a fun and relaxed atmosphere
 !
 Please RSVP to Kirk VanGelder at vandad12@gmail.com to reserve your sp
 ot so we can have handouts and snacks ready for you!
LOCATION:NE 114th Ave\, Vancouver\, WA\, USA
DTSTART:20240814T013000Z
DTSTAMP:20240502T091242Z
ORGANIZER;CN=Clark County Republican Party:MAILTO:info@clarkrepublicans.org
GEO:45.643355;-122.555722
X-APPLE-STRUCTURED-LOCATION;VALUE=URI;X-ADDRESS=NE 114th Ave\, Vancouver\, 
 WA\, USA;X-APPLE-RADIUS=72;X-TITLE=Clark County Republican Headquarters:45
 .643355;-122.555722
END:VEVENT
END:VCALENDAR