BEGIN:VCALENDAR
VERSION:2.0
PRODID:Events Booking
BEGIN:VEVENT
UID:69e5a0d9c3137
SUMMARY:New and Prospective PCO Training
DESCRIPTION:Are you fed up with our local and State governance? Are you rea
 dy to do something about it? Come find out what it means to be a Precinct 
 Committee Officer (PCO)\, the grass-roots elected official of the local pa
 rty. This class is for new and potential PCOs\, or anyone who would like t
 o assist their current PCO. Come learn what is involved and how to be effe
 ctive working with other like minded patriots! Handouts provided so you ca
 n focus on the information!&nbsp\; See you there!&nbsp\;&nbsp\;
LOCATION:NE 114th Ave\, Vancouver\, WA\, USA
DTSTART:20251204T023000Z
DTSTAMP:20251120T035127Z
ORGANIZER;CN=Clark County Republican Party:MAILTO:info@clarkrepublicans.org
GEO:45.643355;-122.555722
X-APPLE-STRUCTURED-LOCATION;VALUE=URI;X-ADDRESS=NE 114th Ave\, Vancouver\, 
 WA\, USA;X-APPLE-RADIUS=72;X-TITLE=Clark County Republican Headquarters:45
 .643355;-122.555722
END:VEVENT
END:VCALENDAR