BEGIN:VCALENDAR
VERSION:2.0
PRODID:Events Booking
BEGIN:VEVENT
UID:69e4ec1f5b097
SUMMARY:New and Prospective PCO Training
DESCRIPTION:Thursday Jan 8th 6:30 - 8:00
 Are you fed up with our local an
 d State governance? Are you ready to do something about it? Come find out 
 what it means to be a Precinct Committee Officer (PCO)\, the grass-roots e
 lected official of the local party. This class is for new and potential PC
 Os\, or anyone who would like to assist their current PCO. Come learn what
  is involved and how to be effective working with other like minded patrio
 ts! Handouts provided so you can focus on the information!&nbsp\; See you 
 there!&nbsp\;&nbsp\;
LOCATION:NE 114th Ave\, Vancouver\, WA\, USA
DTSTART:20260109T023000Z
DTSTAMP:20251122T073610Z
ORGANIZER;CN=Clark County Republican Party:MAILTO:info@clarkrepublicans.org
GEO:45.643355;-122.555722
X-APPLE-STRUCTURED-LOCATION;VALUE=URI;X-ADDRESS=NE 114th Ave\, Vancouver\, 
 WA\, USA;X-APPLE-RADIUS=72;X-TITLE=Clark County Republican Headquarters:45
 .643355;-122.555722
END:VEVENT
END:VCALENDAR