BEGIN:VCALENDAR
VERSION:2.0
PRODID:Events Booking
BEGIN:VEVENT
UID:69e9fca51b942
SUMMARY:CCRCC 1st Quarter
DESCRIPTION:1st Quarter Thursday\, Feb. 9th
 5:30 PM to 6:30 PM Check in

  Meeting start time at 6:30 PM
 ID required for credentialing at all meet
 ings.
 &nbsp\;
 NO outside food or drink allowed inside. Including perso
 nal water bottles.
 &nbsp\;
 Meeting Rules
 &nbsp\;
 Feb 9th Quarterly
  Meeting Proposed Agenda
 Thank you to Juan Gamboa for his service to the
  party and providing the minutes.
 12-10-2022 Unapproved CCRCC Draft Minu
 tes
 &nbsp\;
 Current Secretary Candidates include:
 Myrna Leija and Di
 ck Rylander (listed alphabetically by last name)
 Secretary Candidate Lei
 ja Statement Resume
 Secretary Candidate Rylander Statement Resume
 Trea
 surer's Report
 In an attempt to control costs\, there will not be hard c
 opies of this report provided at the meeting. If you would like to follow 
 along with the treasurer's report\, please print and bring a copy of this 
 report with you to the meeting.
 Password is in your email\, PCOs.
 
 T
 reasurer's Report
 December 2022 Bank Statement- copy for meeting
 Janua
 ry 2023 Bank Statement-copy for meeting
 2023 Surety Bond
 Overflow park
 ing at Hockinson Church across the street and down road from Cloverlane.

  
LOCATION:16391 NE 182nd Ave\, Brush Prairie\, WA 98606\, USA
DTSTART:20230210T023000Z
DTSTAMP:20230111T093409Z
ORGANIZER;CN=Clark County Republican Party:MAILTO:info@clarkrepublicans.org
GEO:45.740512;-122.486277
X-APPLE-STRUCTURED-LOCATION;VALUE=URI;X-ADDRESS=16391 NE 182nd Ave\, Brush 
 Prairie\, WA 98606\, USA;X-APPLE-RADIUS=72;X-TITLE=Cloverlane Mercantile &
  Event Center:45.740512;-122.486277
END:VEVENT
END:VCALENDAR